BEGIN:VCALENDAR
VERSION:2.0
PRODID:-//91.210.235.170//NONSGML kigkonsult.se iCalcreator 2.20//
CALSCALE:GREGORIAN
METHOD:PUBLISH
X-WR-CALNAME:Dublin City Ballet School
X-WR-CALDESC:Dublin City Ballet School
X-FROM-URL:http://dublincityballetschool.ie
X-WR-TIMEZONE:Europe/Dublin
BEGIN:VTIMEZONE
TZID:Europe/Dublin
X-LIC-LOCATION:Europe/Dublin
BEGIN:STANDARD
DTSTART:20171029T020000
TZOFFSETFROM:+0100
TZOFFSETTO:+0000
TZNAME:GMT
END:STANDARD
BEGIN:DAYLIGHT
DTSTART:20180325T010000
TZOFFSETFROM:+0000
TZOFFSETTO:+0100
TZNAME:IST
END:DAYLIGHT
END:VTIMEZONE
BEGIN:VEVENT
UID:ai1ec-116@dublincityballetschool.ie
DTSTAMP:20171106T092208Z
CATEGORIES;LANGUAGE=en-GB:Advanced Beginner
CONTACT:
DESCRIPTION:Please feel free to enquire.08641249829am - 9pm  Contact Us fro
 m email.Email contact form
DTSTART;TZID=Europe/Dublin:20170904T180000
DTEND;TZID=Europe/Dublin:20170904T190000
EXDATE;TZID=Europe/Dublin:20171030T180000
LOCATION:DanceHouse @ DanceIreland Liberty Corner\, Foley St\, Mountjoy\, D
 ublin 1\, Ireland
RRULE:FREQ=WEEKLY;UNTIL=20171204T235959Z;BYDAY=MO;WKST=MO
SEQUENCE:0
SUMMARY:Advanced Beginner Class
URL:http://dublincityballetschool.ie/event/beginner-advanced-class/
X-COST-TYPE:free
X-ALT-DESC;FMTTYPE=text/html:<!DOCTYPE HTML PUBLIC '-//W3C//DTD HTML 3.2//E
 N'>\\n<HTML>\\n<HEAD>\\n<TITLE></TITLE>\\n</HEAD>\\n<BODY><section class='
 veu_contact veu_contentAddSection'><div class='contact_frame'><p class='co
 ntact_txt'><span class='contact_txt_catch'>Please feel free to enquire.</s
 pan><span class='contact_txt_tel veu_color_txt_key'>0864124982</span><span
  class='contact_txt_time'>9am - 9pm </span></p><a href='http://dublincityb
 alletschool.ie/contact/' class='btn btn-primary btn-lg contact_bt'><span c
 lass='contact_bt_txt'> Contact Us from email.</span><span class='contact_b
 t_subTxt'>Email contact form</span></a></div></section></BODY></HTML>
END:VEVENT
END:VCALENDAR
