BEGIN:VCALENDAR
VERSION:2.0
PRODID:-//91.210.235.170//NONSGML kigkonsult.se iCalcreator 2.20//
CALSCALE:GREGORIAN
METHOD:PUBLISH
X-FROM-URL:http://dublincityballetschool.ie
X-WR-TIMEZONE:Europe/Dublin
BEGIN:VTIMEZONE
TZID:Europe/Dublin
X-LIC-LOCATION:Europe/Dublin
BEGIN:STANDARD
DTSTART:20171029T020000
TZOFFSETFROM:+0100
TZOFFSETTO:+0000
TZNAME:GMT
END:STANDARD
BEGIN:DAYLIGHT
DTSTART:20180325T010000
TZOFFSETFROM:+0000
TZOFFSETTO:+0100
TZNAME:IST
END:DAYLIGHT
END:VTIMEZONE
BEGIN:VEVENT
UID:ai1ec-173@dublincityballetschool.ie
DTSTAMP:20171106T090113Z
CATEGORIES;LANGUAGE=en-GB:Holiday
CONTACT:
DESCRIPTION:<section class='veu_contact veu_contentAddSection'><div class='
 contact_frame'><p class='contact_txt'><span class='contact_txt_catch'>Plea
 se feel free to enquire.</span><span class='contact_txt_tel veu_color_txt_
 key'>0864124982</span><span class='contact_txt_time'>9am - 9pm </span></p>
 <a href='http://dublincityballetschool.ie/contact/' class='btn btn-primary
  btn-lg contact_bt'><span class='contact_bt_txt'> Contact Us from email.</
 span><span class='contact_bt_subTxt'>Email contact form</span></a></div></
 section>
DTSTART;VALUE=DATE:20171030
DTEND;VALUE=DATE:20171106
SEQUENCE:0
SUMMARY:Mid-Term Break
URL:http://dublincityballetschool.ie/event/holiday/
X-COST-TYPE:free
END:VEVENT
BEGIN:VEVENT
UID:ai1ec-284@dublincityballetschool.ie
DTSTAMP:20171106T090113Z
CATEGORIES;LANGUAGE=en-GB:Holiday
CONTACT:
DESCRIPTION:<section class='veu_contact veu_contentAddSection'><div class='
 contact_frame'><p class='contact_txt'><span class='contact_txt_catch'>Plea
 se feel free to enquire.</span><span class='contact_txt_tel veu_color_txt_
 key'>0864124982</span><span class='contact_txt_time'>9am - 9pm </span></p>
 <a href='http://dublincityballetschool.ie/contact/' class='btn btn-primary
  btn-lg contact_bt'><span class='contact_bt_txt'> Contact Us from email.</
 span><span class='contact_bt_subTxt'>Email contact form</span></a></div></
 section>
DTSTART;VALUE=DATE:20171211
DTEND;VALUE=DATE:20171212
SEQUENCE:0
SUMMARY:Dance House Closed
URL:http://dublincityballetschool.ie/event/dance-house-closed-2/
X-COST-TYPE:free
END:VEVENT
BEGIN:VEVENT
UID:ai1ec-285@dublincityballetschool.ie
DTSTAMP:20171106T090113Z
CATEGORIES;LANGUAGE=en-GB:Holiday
CONTACT:
DESCRIPTION:<section class='veu_contact veu_contentAddSection'><div class='
 contact_frame'><p class='contact_txt'><span class='contact_txt_catch'>Plea
 se feel free to enquire.</span><span class='contact_txt_tel veu_color_txt_
 key'>0864124982</span><span class='contact_txt_time'>9am - 9pm </span></p>
 <a href='http://dublincityballetschool.ie/contact/' class='btn btn-primary
  btn-lg contact_bt'><span class='contact_bt_txt'> Contact Us from email.</
 span><span class='contact_bt_subTxt'>Email contact form</span></a></div></
 section>
DTSTART;VALUE=DATE:20171214
DTEND;VALUE=DATE:20171215
SEQUENCE:0
SUMMARY:Dance House Closed
URL:http://dublincityballetschool.ie/event/dance-house-closed-3/
X-COST-TYPE:free
END:VEVENT
BEGIN:VEVENT
UID:ai1ec-305@dublincityballetschool.ie
DTSTAMP:20171106T090113Z
CATEGORIES;LANGUAGE=en-GB:Holiday
CONTACT:
DESCRIPTION:<section class='veu_contact veu_contentAddSection'><div class='
 contact_frame'><p class='contact_txt'><span class='contact_txt_catch'>Plea
 se feel free to enquire.</span><span class='contact_txt_tel veu_color_txt_
 key'>0864124982</span><span class='contact_txt_time'>9am - 9pm </span></p>
 <a href='http://dublincityballetschool.ie/contact/' class='btn btn-primary
  btn-lg contact_bt'><span class='contact_bt_txt'> Contact Us from email.</
 span><span class='contact_bt_subTxt'>Email contact form</span></a></div></
 section>
DTSTART;VALUE=DATE:20171218
DTEND;VALUE=DATE:20171219
SEQUENCE:0
SUMMARY:Dance House Closed
URL:http://dublincityballetschool.ie/event/dance-house-closed-5/
X-COST-TYPE:free
END:VEVENT
BEGIN:VEVENT
UID:ai1ec-193@dublincityballetschool.ie
DTSTAMP:20171106T090113Z
CATEGORIES;LANGUAGE=en-GB:Holiday
CONTACT:
DESCRIPTION:<section class='veu_contact veu_contentAddSection'><div class='
 contact_frame'><p class='contact_txt'><span class='contact_txt_catch'>Plea
 se feel free to enquire.</span><span class='contact_txt_tel veu_color_txt_
 key'>0864124982</span><span class='contact_txt_time'>9am - 9pm </span></p>
 <a href='http://dublincityballetschool.ie/contact/' class='btn btn-primary
  btn-lg contact_bt'><span class='contact_bt_txt'> Contact Us from email.</
 span><span class='contact_bt_subTxt'>Email contact form</span></a></div></
 section>
DTSTART;VALUE=DATE:20171221
DTEND;VALUE=DATE:20180110
SEQUENCE:0
SUMMARY:Christmas Holiday
URL:http://dublincityballetschool.ie/event/christmas-holiday/
X-COST-TYPE:free
END:VEVENT
BEGIN:VEVENT
UID:ai1ec-286@dublincityballetschool.ie
DTSTAMP:20171106T090113Z
CATEGORIES;LANGUAGE=en-GB:Holiday
CONTACT:
DESCRIPTION:<section class='veu_contact veu_contentAddSection'><div class='
 contact_frame'><p class='contact_txt'><span class='contact_txt_catch'>Plea
 se feel free to enquire.</span><span class='contact_txt_tel veu_color_txt_
 key'>0864124982</span><span class='contact_txt_time'>9am - 9pm </span></p>
 <a href='http://dublincityballetschool.ie/contact/' class='btn btn-primary
  btn-lg contact_bt'><span class='contact_bt_txt'> Contact Us from email.</
 span><span class='contact_bt_subTxt'>Email contact form</span></a></div></
 section>
DTSTART;VALUE=DATE:20180111
DTEND;VALUE=DATE:20180112
SEQUENCE:0
SUMMARY:Dance House Closed
URL:http://dublincityballetschool.ie/event/dance-house-closed/
X-COST-TYPE:free
END:VEVENT
BEGIN:VEVENT
UID:ai1ec-288@dublincityballetschool.ie
DTSTAMP:20171106T090113Z
CATEGORIES;LANGUAGE=en-GB:Advanced Beginner
CONTACT:
DESCRIPTION:<section class='veu_contact veu_contentAddSection'><div class='
 contact_frame'><p class='contact_txt'><span class='contact_txt_catch'>Plea
 se feel free to enquire.</span><span class='contact_txt_tel veu_color_txt_
 key'>0864124982</span><span class='contact_txt_time'>9am - 9pm </span></p>
 <a href='http://dublincityballetschool.ie/contact/' class='btn btn-primary
  btn-lg contact_bt'><span class='contact_bt_txt'> Contact Us from email.</
 span><span class='contact_bt_subTxt'>Email contact form</span></a></div></
 section>
DTSTART;VALUE=DATE:20180115
DTEND;VALUE=DATE:20180116
SEQUENCE:0
SUMMARY:Dance House Closed
URL:http://dublincityballetschool.ie/event/dance-house-closed-4/
X-COST-TYPE:free
END:VEVENT
BEGIN:VEVENT
UID:ai1ec-116@dublincityballetschool.ie
DTSTAMP:20171106T090113Z
CATEGORIES;LANGUAGE=en-GB:Advanced Beginner
CONTACT:
DESCRIPTION:<section class='veu_contact veu_contentAddSection'><div class='
 contact_frame'><p class='contact_txt'><span class='contact_txt_catch'>Plea
 se feel free to enquire.</span><span class='contact_txt_tel veu_color_txt_
 key'>0864124982</span><span class='contact_txt_time'>9am - 9pm </span></p>
 <a href='http://dublincityballetschool.ie/contact/' class='btn btn-primary
  btn-lg contact_bt'><span class='contact_bt_txt'> Contact Us from email.</
 span><span class='contact_bt_subTxt'>Email contact form</span></a></div></
 section>
DTSTART;TZID=Europe/Dublin:20170904T180000
DTEND;TZID=Europe/Dublin:20170904T190000
EXDATE;TZID=Europe/Dublin:20171030T180000
LOCATION:DanceHouse @ DanceIreland Liberty Corner\, Foley St\, Mountjoy\, D
 ublin 1\, Ireland
RRULE:FREQ=WEEKLY;UNTIL=20171204T235959Z;BYDAY=MO;WKST=MO
SEQUENCE:0
SUMMARY:Advanced Beginner Class
URL:http://dublincityballetschool.ie/event/beginner-advanced-class/
X-COST-TYPE:free
END:VEVENT
BEGIN:VEVENT
UID:ai1ec-192@dublincityballetschool.ie
DTSTAMP:20171106T090113Z
CATEGORIES;LANGUAGE=en-GB:Mummy's Bootcamp
CONTACT:
DESCRIPTION:<section class='veu_contact veu_contentAddSection'><div class='
 contact_frame'><p class='contact_txt'><span class='contact_txt_catch'>Plea
 se feel free to enquire.</span><span class='contact_txt_tel veu_color_txt_
 key'>0864124982</span><span class='contact_txt_time'>9am - 9pm </span></p>
 <a href='http://dublincityballetschool.ie/contact/' class='btn btn-primary
  btn-lg contact_bt'><span class='contact_bt_txt'> Contact Us from email.</
 span><span class='contact_bt_subTxt'>Email contact form</span></a></div></
 section>
DTSTART;TZID=Europe/Dublin:20170906T100000
DTEND;TZID=Europe/Dublin:20170906T110000
EXDATE;TZID=Europe/Dublin:20171101T100000
LOCATION:Song & Dance studios @ Song & Dance studios  Baldoyle Dublin 13
RRULE:FREQ=WEEKLY;UNTIL=20171220T235959Z
SEQUENCE:0
SUMMARY:Mummy’s Bootcamp
URL:http://dublincityballetschool.ie/event/192/
X-COST-TYPE:free
END:VEVENT
BEGIN:VEVENT
UID:ai1ec-115@dublincityballetschool.ie
DTSTAMP:20171106T090113Z
CATEGORIES;LANGUAGE=en-GB:Beginner Improver
CONTACT:
DESCRIPTION:<section class='veu_contact veu_contentAddSection'><div class='
 contact_frame'><p class='contact_txt'><span class='contact_txt_catch'>Plea
 se feel free to enquire.</span><span class='contact_txt_tel veu_color_txt_
 key'>0864124982</span><span class='contact_txt_time'>9am - 9pm </span></p>
 <a href='http://dublincityballetschool.ie/contact/' class='btn btn-primary
  btn-lg contact_bt'><span class='contact_bt_txt'> Contact Us from email.</
 span><span class='contact_bt_subTxt'>Email contact form</span></a></div></
 section>
DTSTART;TZID=Europe/Dublin:20170907T183000
DTEND;TZID=Europe/Dublin:20170907T200000
EXDATE;TZID=Europe/Dublin:20171102T183000
LOCATION:DanceHouse @ DanceIreland Liberty Corner\, Foley St\, Mountjoy\, D
 ublin 1\, Ireland
RRULE:FREQ=WEEKLY;UNTIL=20171207T235959Z;BYDAY=TH;WKST=MO
SEQUENCE:0
SUMMARY:Beginner Improver Class
URL:http://dublincityballetschool.ie/event/115/
X-COST-TYPE:free
END:VEVENT
END:VCALENDAR
